Package: IsoformSwitchAnalyzeR Version: 2.10.0 Command: /Library/Frameworks/R.framework/Resources/bin/R CMD INSTALL IsoformSwitchAnalyzeR StartedAt: 2025-11-06 15:26:59 -0500 (Thu, 06 Nov 2025) EndedAt: 2025-11-06 15:27:24 -0500 (Thu, 06 Nov 2025) EllapsedTime: 24.9 seconds RetCode: 0 Status: OK