Package: IsoformSwitchAnalyzeR Version: 2.10.0 Command: /Library/Frameworks/R.framework/Resources/bin/R CMD build --keep-empty-dirs --no-resave-data IsoformSwitchAnalyzeR StartedAt: 2025-11-06 16:48:50 -0500 (Thu, 06 Nov 2025) EndedAt: 2025-11-06 16:50:19 -0500 (Thu, 06 Nov 2025) EllapsedTime: 89.1 seconds RetCode: 0 Status: OK PackageFile: IsoformSwitchAnalyzeR_2.10.0.tar.gz PackageFileSize: 6.593 MiB