Package: IsoformSwitchAnalyzeR Version: 2.10.0 Command: rm -rf IsoformSwitchAnalyzeR.buildbin-libdir && mkdir IsoformSwitchAnalyzeR.buildbin-libdir && /Users/biocbuild/BBS/utils/build-universal.sh IsoformSwitchAnalyzeR_2.10.0.tar.gz /Library/Frameworks/R.framework/Resources/bin/R IsoformSwitchAnalyzeR.buildbin-libdir StartedAt: 2025-11-06 23:09:28 -0500 (Thu, 06 Nov 2025) EndedAt: 2025-11-06 23:09:55 -0500 (Thu, 06 Nov 2025) EllapsedTime: 27.7 seconds RetCode: 0 Status: OK PackageFile: IsoformSwitchAnalyzeR_2.10.0.tgz PackageFileSize: 7.395 MiB