Package: IsoCorrectoRGUI Version: 1.25.0 Command: /home/biocbuild/bbs-3.22-bioc/R/bin/R CMD INSTALL IsoCorrectoRGUI StartedAt: 2025-10-24 15:19:18 -0400 (Fri, 24 Oct 2025) EndedAt: 2025-10-24 15:19:25 -0400 (Fri, 24 Oct 2025) EllapsedTime: 6.7 seconds RetCode: 0 Status: OK