Package: IsoCorrectoRGUI Version: 1.26.0 Command: /Library/Frameworks/R.framework/Resources/bin/R CMD build --keep-empty-dirs --no-resave-data IsoCorrectoRGUI StartedAt: 2025-11-17 23:30:49 -0500 (Mon, 17 Nov 2025) EndedAt: 2025-11-17 23:31:21 -0500 (Mon, 17 Nov 2025) EllapsedTime: 32.2 seconds RetCode: 0 Status: OK PackageFile: IsoCorrectoRGUI_1.26.0.tar.gz PackageFileSize: 438.9 KiB