Package: IsoCorrectoRGUI Version: 1.26.0 Command: /Library/Frameworks/R.framework/Resources/bin/R CMD INSTALL IsoCorrectoRGUI StartedAt: 2025-11-02 15:19:25 -0500 (Sun, 02 Nov 2025) EndedAt: 2025-11-02 15:19:55 -0500 (Sun, 02 Nov 2025) EllapsedTime: 30.3 seconds RetCode: 0 Status: OK