Package: IsoCorrectoRGUI Version: 1.26.0 Command: /Library/Frameworks/R.framework/Resources/bin/R CMD build --keep-empty-dirs --no-resave-data IsoCorrectoRGUI StartedAt: 2025-11-03 17:30:54 -0500 (Mon, 03 Nov 2025) EndedAt: 2025-11-03 17:31:09 -0500 (Mon, 03 Nov 2025) EllapsedTime: 14.9 seconds RetCode: 0 Status: OK PackageFile: IsoCorrectoRGUI_1.26.0.tar.gz PackageFileSize: 438.9 KiB