Package: IsoCorrectoRGUI Version: 1.26.0 Command: rm -rf IsoCorrectoRGUI.buildbin-libdir && mkdir IsoCorrectoRGUI.buildbin-libdir && /Users/biocbuild/BBS/utils/build-universal.sh IsoCorrectoRGUI_1.26.0.tar.gz /Library/Frameworks/R.framework/Resources/bin/R IsoCorrectoRGUI.buildbin-libdir StartedAt: 2025-11-01 01:40:11 -0400 (Sat, 01 Nov 2025) EndedAt: 2025-11-01 01:40:22 -0400 (Sat, 01 Nov 2025) EllapsedTime: 11.3 seconds RetCode: 0 Status: OK PackageFile: IsoCorrectoRGUI_1.26.0.tgz PackageFileSize: 455.3 KiB