Package: IsoCorrectoRGUI Version: 1.26.0 Command: /Library/Frameworks/R.framework/Resources/bin/R CMD INSTALL IsoCorrectoRGUI StartedAt: 2025-11-17 17:04:20 -0500 (Mon, 17 Nov 2025) EndedAt: 2025-11-17 17:04:22 -0500 (Mon, 17 Nov 2025) EllapsedTime: 2.5 seconds RetCode: 0 Status: OK