Package: IsoCorrectoRGUI Version: 1.26.0 Maintainer: Christian Kohler MaintainerEmail: christian.kohler at ur.de git_url: https://git.bioconductor.org/packages/IsoCorrectoRGUI git_branch: RELEASE_3_22 git_last_commit: 9c84760 git_last_commit_date: 2025-10-29 10:49:03 -0500 (Wed, 29 Oct 2025)