Package: IntramiRExploreR Version: 1.32.0 Command: /Library/Frameworks/R.framework/Resources/bin/R CMD INSTALL IntramiRExploreR StartedAt: 2025-11-10 15:06:17 -0500 (Mon, 10 Nov 2025) EndedAt: 2025-11-10 15:06:26 -0500 (Mon, 10 Nov 2025) EllapsedTime: 8.6 seconds RetCode: 0 Status: OK