Package: IntramiRExploreR Version: 1.32.0 Command: /Library/Frameworks/R.framework/Resources/bin/R CMD build --keep-empty-dirs --no-resave-data IntramiRExploreR StartedAt: 2025-11-10 16:47:53 -0500 (Mon, 10 Nov 2025) EndedAt: 2025-11-10 16:48:02 -0500 (Mon, 10 Nov 2025) EllapsedTime: 9.1 seconds RetCode: 0 Status: OK PackageFile: IntramiRExploreR_1.32.0.tar.gz PackageFileSize: 8.901 MiB