Package: IntramiRExploreR Version: 1.32.0 Command: /Library/Frameworks/R.framework/Resources/bin/R CMD INSTALL IntramiRExploreR StartedAt: 2025-11-20 16:18:52 -0500 (Thu, 20 Nov 2025) EndedAt: 2025-11-20 16:19:07 -0500 (Thu, 20 Nov 2025) EllapsedTime: 15.1 seconds RetCode: 0 Status: OK