Package: IntramiRExploreR Version: 1.32.0 Command: /Library/Frameworks/R.framework/Resources/bin/R CMD build --keep-empty-dirs --no-resave-data IntramiRExploreR StartedAt: 2025-11-21 03:33:58 -0500 (Fri, 21 Nov 2025) EndedAt: 2025-11-21 03:34:26 -0500 (Fri, 21 Nov 2025) EllapsedTime: 28.5 seconds RetCode: 0 Status: OK PackageFile: IntramiRExploreR_1.32.0.tar.gz PackageFileSize: 8.901 MiB