Package: IntramiRExploreR Version: 1.32.0 Command: rm -rf IntramiRExploreR.buildbin-libdir && mkdir IntramiRExploreR.buildbin-libdir && /Users/biocbuild/BBS/utils/build-universal.sh IntramiRExploreR_1.32.0.tar.gz /Library/Frameworks/R.framework/Resources/bin/R IntramiRExploreR.buildbin-libdir StartedAt: 2025-11-23 09:18:00 -0500 (Sun, 23 Nov 2025) EndedAt: 2025-11-23 09:18:24 -0500 (Sun, 23 Nov 2025) EllapsedTime: 23.7 seconds RetCode: 0 Status: OK PackageFile: IntramiRExploreR_1.32.0.tgz PackageFileSize: 13.36 MiB