Package: InteractiveComplexHeatmap Version: 1.18.0 Command: /Library/Frameworks/R.framework/Resources/bin/R CMD INSTALL InteractiveComplexHeatmap StartedAt: 2025-11-03 15:21:27 -0500 (Mon, 03 Nov 2025) EndedAt: 2025-11-03 15:21:47 -0500 (Mon, 03 Nov 2025) EllapsedTime: 20.2 seconds RetCode: 0 Status: OK