Package: InteractiveComplexHeatmap Version: 1.18.0 Command: /Library/Frameworks/R.framework/Resources/bin/R CMD build --keep-empty-dirs --no-resave-data InteractiveComplexHeatmap StartedAt: 2025-11-03 17:28:21 -0500 (Mon, 03 Nov 2025) EndedAt: 2025-11-03 17:29:18 -0500 (Mon, 03 Nov 2025) EllapsedTime: 57.1 seconds RetCode: 0 Status: OK PackageFile: InteractiveComplexHeatmap_1.18.0.tar.gz PackageFileSize: 968.6 KiB