Package: InteractiveComplexHeatmap Version: 1.18.0 Command: rm -rf InteractiveComplexHeatmap.buildbin-libdir && mkdir InteractiveComplexHeatmap.buildbin-libdir && /Users/biocbuild/BBS/utils/build-universal.sh InteractiveComplexHeatmap_1.18.0.tar.gz /Library/Frameworks/R.framework/Resources/bin/R InteractiveComplexHeatmap.buildbin-libdir StartedAt: 2025-11-04 01:45:51 -0500 (Tue, 04 Nov 2025) EndedAt: 2025-11-04 01:46:13 -0500 (Tue, 04 Nov 2025) EllapsedTime: 22.0 seconds RetCode: 0 Status: OK PackageFile: InteractiveComplexHeatmap_1.18.0.tgz PackageFileSize: 1.153 MiB