Package: InteractionSet Version: 1.38.0 Command: /Library/Frameworks/R.framework/Resources/bin/R CMD INSTALL InteractionSet StartedAt: 2025-11-03 15:28:21 -0500 (Mon, 03 Nov 2025) EndedAt: 2025-11-03 15:29:16 -0500 (Mon, 03 Nov 2025) EllapsedTime: 55.3 seconds RetCode: 0 Status: OK