Package: InteractionSet Version: 1.38.0 Command: /Library/Frameworks/R.framework/Resources/bin/R CMD build --keep-empty-dirs --no-resave-data InteractionSet StartedAt: 2025-11-03 17:28:17 -0500 (Mon, 03 Nov 2025) EndedAt: 2025-11-03 17:29:29 -0500 (Mon, 03 Nov 2025) EllapsedTime: 72.1 seconds RetCode: 0 Status: OK PackageFile: InteractionSet_1.38.0.tar.gz PackageFileSize: 391.4 KiB