Package: InteractionSet Version: 1.38.0 Command: /Library/Frameworks/R.framework/Resources/bin/R CMD INSTALL InteractionSet StartedAt: 2025-10-31 15:18:05 -0400 (Fri, 31 Oct 2025) EndedAt: 2025-10-31 15:18:20 -0400 (Fri, 31 Oct 2025) EllapsedTime: 15.7 seconds RetCode: 0 Status: OK