Package: InteractionSet Version: 1.38.0 Command: rm -rf InteractionSet.buildbin-libdir && mkdir InteractionSet.buildbin-libdir && /Users/biocbuild/BBS/utils/build-universal.sh InteractionSet_1.38.0.tar.gz /Library/Frameworks/R.framework/Resources/bin/R InteractionSet.buildbin-libdir StartedAt: 2025-10-31 23:10:56 -0400 (Fri, 31 Oct 2025) EndedAt: 2025-10-31 23:11:13 -0400 (Fri, 31 Oct 2025) EllapsedTime: 17.3 seconds RetCode: 0 Status: OK PackageFile: InteractionSet_1.38.0.tgz PackageFileSize: 1.55 MiB