Package: InteractionSet Version: 1.38.0 Command: /Library/Frameworks/R.framework/Resources/bin/R CMD build --keep-empty-dirs --no-resave-data InteractionSet StartedAt: 2025-11-17 22:12:15 -0500 (Mon, 17 Nov 2025) EndedAt: 2025-11-17 22:12:39 -0500 (Mon, 17 Nov 2025) EllapsedTime: 24.3 seconds RetCode: 0 Status: OK PackageFile: InteractionSet_1.38.0.tar.gz PackageFileSize: 391.5 KiB