Package: InteractionSet Version: 1.38.0 Command: rm -rf InteractionSet.buildbin-libdir && mkdir InteractionSet.buildbin-libdir && /Users/biocbuild/BBS/utils/build-universal.sh InteractionSet_1.38.0.tar.gz /Library/Frameworks/R.framework/Resources/bin/R InteractionSet.buildbin-libdir StartedAt: 2025-11-18 15:44:40 -0500 (Tue, 18 Nov 2025) EndedAt: 2025-11-18 15:45:02 -0500 (Tue, 18 Nov 2025) EllapsedTime: 21.3 seconds RetCode: 0 Status: OK PackageFile: InteractionSet_1.38.0.tgz PackageFileSize: 1.55 MiB