Package: InterCellar Version: 2.15.0 Command: /home/biocbuild/bbs-3.22-bioc/R/bin/R CMD INSTALL InterCellar StartedAt: 2025-10-24 15:37:07 -0400 (Fri, 24 Oct 2025) EndedAt: 2025-10-24 15:37:34 -0400 (Fri, 24 Oct 2025) EllapsedTime: 27.0 seconds RetCode: 0 Status: OK