Package: IntEREst Version: 1.33.0 Command: /Library/Frameworks/R.framework/Resources/bin/R CMD INSTALL IntEREst StartedAt: 2025-10-28 15:29:11 -0400 (Tue, 28 Oct 2025) EndedAt: 2025-10-28 15:29:33 -0400 (Tue, 28 Oct 2025) EllapsedTime: 21.7 seconds RetCode: 0 Status: OK