Package: IntEREst Version: 1.33.0 Command: rm -rf IntEREst.buildbin-libdir && mkdir IntEREst.buildbin-libdir && /Users/biocbuild/BBS/utils/build-universal.sh IntEREst_1.33.0.tar.gz /Library/Frameworks/R.framework/Resources/bin/R IntEREst.buildbin-libdir StartedAt: 2025-10-28 23:03:38 -0400 (Tue, 28 Oct 2025) EndedAt: 2025-10-28 23:04:03 -0400 (Tue, 28 Oct 2025) EllapsedTime: 24.5 seconds RetCode: 0 Status: OK PackageFile: IntEREst_1.33.0.tgz PackageFileSize: 1.902 MiB