Package: InPAS Version: 2.18.0 Command: /Library/Frameworks/R.framework/Resources/bin/R CMD INSTALL InPAS StartedAt: 2025-11-10 15:24:48 -0500 (Mon, 10 Nov 2025) EndedAt: 2025-11-10 15:25:09 -0500 (Mon, 10 Nov 2025) EllapsedTime: 20.1 seconds RetCode: 0 Status: OK