Package: InPAS Version: 2.18.0 Command: /Library/Frameworks/R.framework/Resources/bin/R CMD build --keep-empty-dirs --no-resave-data InPAS StartedAt: 2025-11-10 16:46:52 -0500 (Mon, 10 Nov 2025) EndedAt: 2025-11-10 16:48:03 -0500 (Mon, 10 Nov 2025) EllapsedTime: 70.8 seconds RetCode: 0 Status: OK PackageFile: InPAS_2.18.0.tar.gz PackageFileSize: 1.435 MiB