Package: IVAS Version: 2.30.0 Command: /home/biocbuild/bbs-3.22-bioc/R/bin/R CMD INSTALL IVAS StartedAt: 2025-11-17 17:56:16 -0500 (Mon, 17 Nov 2025) EndedAt: 2025-11-17 17:56:59 -0500 (Mon, 17 Nov 2025) EllapsedTime: 42.6 seconds RetCode: 0 Status: OK