Package: ISLET Version: 1.12.0 Command: /home/biocbuild/bbs-3.22-bioc/R/bin/R CMD INSTALL ISLET StartedAt: 2025-11-16 15:19:30 -0500 (Sun, 16 Nov 2025) EndedAt: 2025-11-16 15:19:55 -0500 (Sun, 16 Nov 2025) EllapsedTime: 24.9 seconds RetCode: 0 Status: OK