Package: ISLET Version: 1.12.0 Command: /home/biocbuild/bbs-3.22-bioc/R/bin/R CMD build --keep-empty-dirs --no-resave-data --md5 ISLET StartedAt: 2025-11-14 18:21:58 -0500 (Fri, 14 Nov 2025) EndedAt: 2025-11-14 18:25:24 -0500 (Fri, 14 Nov 2025) EllapsedTime: 206.3 seconds RetCode: 0 Status: OK PackageFile: ISLET_1.12.0.tar.gz PackageFileSize: 2.186 MiB