Package: ISAnalytics Version: 1.19.3 Command: /home/biocbuild/bbs-3.22-bioc/R/bin/R CMD INSTALL ISAnalytics StartedAt: 2025-10-24 15:19:41 -0400 (Fri, 24 Oct 2025) EndedAt: 2025-10-24 15:20:00 -0400 (Fri, 24 Oct 2025) EllapsedTime: 18.5 seconds RetCode: 0 Status: OK