Package: ISAnalytics Version: 1.19.3 Command: /home/biocbuild/bbs-3.22-bioc/R/bin/R CMD build --keep-empty-dirs --no-resave-data --md5 ISAnalytics StartedAt: 2025-10-24 18:26:26 -0400 (Fri, 24 Oct 2025) EndedAt: 2025-10-24 18:29:13 -0400 (Fri, 24 Oct 2025) EllapsedTime: 166.2 seconds RetCode: 0 Status: OK PackageFile: ISAnalytics_1.19.3.tar.gz PackageFileSize: 8.782 MiB