Package: ISAnalytics Version: 1.20.0 Command: /Library/Frameworks/R.framework/Resources/bin/R CMD INSTALL ISAnalytics StartedAt: 2025-11-10 15:05:11 -0500 (Mon, 10 Nov 2025) EndedAt: 2025-11-10 15:05:22 -0500 (Mon, 10 Nov 2025) EllapsedTime: 10.8 seconds RetCode: 0 Status: OK