Package: ISAnalytics Version: 1.20.0 Command: /Library/Frameworks/R.framework/Resources/bin/R CMD build --keep-empty-dirs --no-resave-data ISAnalytics StartedAt: 2025-11-10 16:48:08 -0500 (Mon, 10 Nov 2025) EndedAt: 2025-11-10 16:49:16 -0500 (Mon, 10 Nov 2025) EllapsedTime: 67.8 seconds RetCode: 0 Status: OK PackageFile: ISAnalytics_1.20.0.tar.gz PackageFileSize: 8.822 MiB