Package: ISAnalytics Version: 1.20.0 Command: rm -rf ISAnalytics.buildbin-libdir && mkdir ISAnalytics.buildbin-libdir && /Users/biocbuild/BBS/utils/build-universal.sh ISAnalytics_1.20.0.tar.gz /Library/Frameworks/R.framework/Resources/bin/R ISAnalytics.buildbin-libdir StartedAt: 2025-11-10 23:24:10 -0500 (Mon, 10 Nov 2025) EndedAt: 2025-11-10 23:24:21 -0500 (Mon, 10 Nov 2025) EllapsedTime: 11.2 seconds RetCode: 0 Status: OK PackageFile: ISAnalytics_1.20.0.tgz PackageFileSize: 9.664 MiB