Package: ISAnalytics Version: 1.20.0 Command: /Library/Frameworks/R.framework/Resources/bin/R CMD INSTALL ISAnalytics StartedAt: 2025-11-24 15:30:59 -0500 (Mon, 24 Nov 2025) EndedAt: 2025-11-24 15:31:25 -0500 (Mon, 24 Nov 2025) EllapsedTime: 25.5 seconds RetCode: 0 Status: OK