Package: IRanges Version: 2.44.0 Command: /home/biocbuild/bbs-3.22-bioc/R/bin/R CMD INSTALL IRanges StartedAt: 2025-11-16 15:14:21 -0500 (Sun, 16 Nov 2025) EndedAt: 2025-11-16 15:15:17 -0500 (Sun, 16 Nov 2025) EllapsedTime: 56.0 seconds RetCode: 0 Status: OK