Package: IRanges Version: 2.44.0 Command: /home/biocbuild/bbs-3.22-bioc/R/bin/R CMD build --keep-empty-dirs --no-resave-data --md5 IRanges StartedAt: 2025-11-16 18:23:49 -0500 (Sun, 16 Nov 2025) EndedAt: 2025-11-16 18:25:01 -0500 (Sun, 16 Nov 2025) EllapsedTime: 72.1 seconds RetCode: 0 Status: OK PackageFile: IRanges_2.44.0.tar.gz PackageFileSize: 484.5 KiB