Package: IONiseR Version: 2.34.0 Command: /home/biocbuild/bbs-3.22-bioc/R/bin/R CMD INSTALL IONiseR StartedAt: 2025-11-17 18:05:50 -0500 (Mon, 17 Nov 2025) EndedAt: 2025-11-17 18:06:27 -0500 (Mon, 17 Nov 2025) EllapsedTime: 36.9 seconds RetCode: 0 Status: OK