Package: IONiseR Version: 2.34.0 Command: /home/biocbuild/bbs-3.22-bioc/R/bin/R CMD build --keep-empty-dirs --no-resave-data --md5 IONiseR StartedAt: 2025-11-17 21:38:11 -0500 (Mon, 17 Nov 2025) EndedAt: 2025-11-17 21:39:55 -0500 (Mon, 17 Nov 2025) EllapsedTime: 104.1 seconds RetCode: 0 Status: OK PackageFile: IONiseR_2.34.0.tar.gz PackageFileSize: 4.585 MiB