Package: INTACT Version: 1.9.0 Command: /home/biocbuild/bbs-3.22-bioc/R/bin/R CMD build --keep-empty-dirs --no-resave-data --md5 INTACT StartedAt: 2025-10-24 18:24:09 -0400 (Fri, 24 Oct 2025) EndedAt: 2025-10-24 18:24:21 -0400 (Fri, 24 Oct 2025) EllapsedTime: 12.0 seconds RetCode: 0 Status: OK PackageFile: INTACT_1.9.0.tar.gz PackageFileSize: 2.508 MiB