Package: INSPEcT Version: 1.40.0 Command: /home/biocbuild/bbs-3.22-bioc/R/bin/R CMD INSTALL INSPEcT StartedAt: 2025-10-29 22:02:03 -0400 (Wed, 29 Oct 2025) EndedAt: 2025-10-29 22:03:05 -0400 (Wed, 29 Oct 2025) EllapsedTime: 62.9 seconds RetCode: 0 Status: OK