Package: INSPEcT Version: 1.40.0 Command: /home/biocbuild/bbs-3.22-bioc/R/bin/R CMD build --keep-empty-dirs --no-resave-data --md5 INSPEcT StartedAt: 2025-10-30 00:35:14 -0400 (Thu, 30 Oct 2025) EndedAt: 2025-10-30 00:42:19 -0400 (Thu, 30 Oct 2025) EllapsedTime: 425.4 seconds RetCode: 0 Status: OK PackageFile: INSPEcT_1.40.0.tar.gz PackageFileSize: 7.751 MiB