Package: IMPCdata Version: 1.46.0 Command: /home/biocbuild/bbs-3.22-bioc/R/bin/R CMD INSTALL IMPCdata StartedAt: 2025-10-31 15:11:53 -0400 (Fri, 31 Oct 2025) EndedAt: 2025-10-31 15:12:07 -0400 (Fri, 31 Oct 2025) EllapsedTime: 13.3 seconds RetCode: 0 Status: OK