Package: IMMAN Version: 1.30.0 Command: /home/biocbuild/bbs-3.22-bioc/R/bin/R CMD INSTALL IMMAN StartedAt: 2025-11-16 15:56:25 -0500 (Sun, 16 Nov 2025) EndedAt: 2025-11-16 15:56:39 -0500 (Sun, 16 Nov 2025) EllapsedTime: 14.3 seconds RetCode: 0 Status: OK