Package: IMAS Version: 1.34.0 Command: /home/biocbuild/bbs-3.22-bioc/R/bin/R CMD INSTALL IMAS StartedAt: 2025-10-29 22:02:38 -0400 (Wed, 29 Oct 2025) EndedAt: 2025-10-29 22:03:20 -0400 (Wed, 29 Oct 2025) EllapsedTime: 42.0 seconds RetCode: 0 Status: OK