Package: IMAS Version: 1.34.0 Command: /home/biocbuild/bbs-3.22-bioc/R/bin/R CMD build --keep-empty-dirs --no-resave-data --md5 IMAS StartedAt: 2025-10-30 00:32:38 -0400 (Thu, 30 Oct 2025) EndedAt: 2025-10-30 00:34:27 -0400 (Thu, 30 Oct 2025) EllapsedTime: 109.1 seconds RetCode: 1 Status: ERROR PackageFile: None PackageFileSize: NA