Package: IHW Version: 1.38.0 Command: /home/biocbuild/bbs-3.22-bioc/R/bin/R CMD build --keep-empty-dirs --no-resave-data --md5 IHW StartedAt: 2025-11-06 18:12:01 -0500 (Thu, 06 Nov 2025) EndedAt: 2025-11-06 18:13:55 -0500 (Thu, 06 Nov 2025) EllapsedTime: 114.1 seconds RetCode: 0 Status: OK PackageFile: IHW_1.38.0.tar.gz PackageFileSize: 4.099 MiB